BEGIN:VCALENDAR
VERSION:2.0
PRODID:-//City of Ranson, WV - ECPv6.15.20//NONSGML v1.0//EN
CALSCALE:GREGORIAN
METHOD:PUBLISH
X-WR-CALNAME:City of Ranson, WV
X-ORIGINAL-URL:https://ransonwv.gov
X-WR-CALDESC:Events for City of Ranson, WV
REFRESH-INTERVAL;VALUE=DURATION:PT1H
X-Robots-Tag:noindex
X-PUBLISHED-TTL:PT1H
BEGIN:VTIMEZONE
TZID:America/New_York
BEGIN:DAYLIGHT
TZOFFSETFROM:-0500
TZOFFSETTO:-0400
TZNAME:EDT
DTSTART:20250309T070000
END:DAYLIGHT
BEGIN:STANDARD
TZOFFSETFROM:-0400
TZOFFSETTO:-0500
TZNAME:EST
DTSTART:20251102T060000
END:STANDARD
BEGIN:DAYLIGHT
TZOFFSETFROM:-0500
TZOFFSETTO:-0400
TZNAME:EDT
DTSTART:20260308T070000
END:DAYLIGHT
BEGIN:STANDARD
TZOFFSETFROM:-0400
TZOFFSETTO:-0500
TZNAME:EST
DTSTART:20261101T060000
END:STANDARD
BEGIN:DAYLIGHT
TZOFFSETFROM:-0500
TZOFFSETTO:-0400
TZNAME:EDT
DTSTART:20270314T070000
END:DAYLIGHT
BEGIN:STANDARD
TZOFFSETFROM:-0400
TZOFFSETTO:-0500
TZNAME:EST
DTSTART:20271107T060000
END:STANDARD
END:VTIMEZONE
BEGIN:VEVENT
DTSTART;TZID=America/New_York:20260509T080000
DTEND;TZID=America/New_York:20260509T140000
DTSTAMP:20260425T064547
CREATED:20260323T180351Z
LAST-MODIFIED:20260323T180351Z
UID:10000399-1778313600-1778335200@ransonwv.gov
SUMMARY:Indoor Yard & Craft Show
DESCRIPTION:Saturday\, May 9\, 2026\, 8:00 AM – 2:00 PM \nRanson Civic Center\, 432 W 2nd Ave\, Ranson\, WV \nFees- $25 for 12X12 space\, $20 for Ranson Residents \nNo refunds will be allowed for cancellation of your pace. Early set-up inside Civic Center on Friday\, May 8th from 5:00-8:00 PM. \nContact: \nJoyce Moler\, (304) 725-2437\, jmoler@ransonwv.us \n 
URL:https://ransonwv.gov/event/indoor-yard-craft-show/
LOCATION:Ranson Civic Center\, 432 W 2nd Ave\, Ranson\, 25438\, United States
END:VEVENT
BEGIN:VEVENT
DTSTART;TZID=America/New_York:20260505T190000
DTEND;TZID=America/New_York:20260505T200000
DTSTAMP:20260425T064547
CREATED:20260330T140023Z
LAST-MODIFIED:20260330T140444Z
UID:10000414-1778007600-1778011200@ransonwv.gov
SUMMARY:City Council Meeting
DESCRIPTION:
URL:https://ransonwv.gov/event/city-council-meeting/2026-05-05/
LOCATION:Ranson City Hall\, 312 S Mildred St\, Ranson\, WV\, 25438\, United States
END:VEVENT
BEGIN:VEVENT
DTSTART;TZID=America/New_York:20260504T190000
DTEND;TZID=America/New_York:20260504T200000
DTSTAMP:20260425T064547
CREATED:20260330T135423Z
LAST-MODIFIED:20260330T140510Z
UID:10000402-1777921200-1777924800@ransonwv.gov
SUMMARY:Planning Commission Meeting
DESCRIPTION:
URL:https://ransonwv.gov/event/planning-commission-meeting/2026-05-04/
LOCATION:WV
END:VEVENT
BEGIN:VEVENT
DTSTART;TZID=America/New_York:20260502T100000
DTEND;TZID=America/New_York:20260502T140000
DTSTAMP:20260425T064547
CREATED:20260330T142253Z
LAST-MODIFIED:20260330T142253Z
UID:10000442-1777716000-1777730400@ransonwv.gov
SUMMARY:Spring into Summer
DESCRIPTION:Jefferson County Parks and Recreation Commission happily joins forces with The City of Ranson\, The Levitt Foundation\, Skinner Accident and Injury Lawyers\, WV Rivers\, Elks Run Watershed\, The WV DEP\, Potomac Valley Audubon Society\, and more to bring a NEW family-friendly afternoon of kites\, clean water\, community arts and MUSIC!\n\nLevitt AMP Shenandoah Junction Music Series 2026Saturday\, May 1 featuring the Tony M TrioGates open at 10am\, Music at 11 am\n\nFamily Friendly. Pets welcome on leash.Picnics welcome\, or enjoy our food vendors – Taste of Greece and Kona Ice.\nBeer will be available for sale with a photo ID.\nNo carry-in alcohol\, no glass.\n\nTony M TrioTony was an elementary school teacher for 11 years. He taught 1st\, 3rd\, and 4th grades and worked as a behavioral coach for five years in grades 3rd-5th.\nIn 2014\, he became a full-time professional musician and has played on average\, over 175 shows/year in libraries\, schools\, and family events. He also offers workshops for teachers looking to implement music in their classroom. Tony has been writing music since 2003. He now performs his original school programs to thousands of children. Along with integrating music\, literature\, and storytelling\, Tony’s programs also promote positive mental health\, growth mindset\, and are interactive\, education\, and fun!\n\nWe thank our generous sponsors and supporters for helping to keep the music playing in Jefferson County!\nPresenting Sponsor: Skinner Accident and Injury LawyersFeatured Sponsor: Jefferson Security BankFeatured Sponsor: Washington LandingSupporting Sponsor: Shenandoah Planing MillSupporting Sponsor: Ace Garage Doors\, LLC\n\nThe Levitt AMP Shenandoah Junction Music Series is supported in part by the Levitt Family Foundation\, which partners with changemakers and nonprofits to strengthen the social fabric of communities in America through free\, live music in outdoor public spaces. In 2026\, the Levitt Family Foundation is supporting over 900 free concerts in 90+ towns and cities across the country\, bringing joy to over a million people. levitt.org
URL:https://ransonwv.gov/event/spring-into-summer/
LOCATION:The Amp at Sam Michaels Park\, 154 Sam Michaels Lane\, Harpers Ferry\, WV\, 25425\, United States
END:VEVENT
BEGIN:VEVENT
DTSTART;TZID=America/New_York:20260425T090000
DTEND;TZID=America/New_York:20260425T130000
DTSTAMP:20260425T064547
CREATED:20260324T162321Z
LAST-MODIFIED:20260324T162308Z
UID:10000400-1777107600-1777122000@ransonwv.gov
SUMMARY:Community Clean Up
DESCRIPTION:The Ranson Community Clean Up Day will be held on Saturday\, April 25\, 2026\, from 9:00 AM – 1:00 PM.\nClean Up Locations Include: \n\nLeetown Road\nCurrie Road\nFlowing Springs Road\n16th & Foal Street\nFairfax Boulevard\n\nFor more information\, please contact Debbie McClure at dmcclure@ransonwv.us! \nRegister Here: https://docs.google.com/forms/d/e/1FAIpQLSfR95vQDcXjWRyb9ZjzqedvEf6mBy1jQhm97BhlEeHUxIE6Rw/viewformn Up \n 
URL:https://ransonwv.gov/event/community-clean-up/
LOCATION:WV
END:VEVENT
BEGIN:VEVENT
DTSTART;TZID=America/New_York:20260421T190000
DTEND;TZID=America/New_York:20260421T200000
DTSTAMP:20260425T064547
CREATED:20260330T140302Z
LAST-MODIFIED:20260413T174522Z
UID:10000444-1776798000-1776801600@ransonwv.gov
SUMMARY:City Council Meeting
DESCRIPTION:
URL:https://ransonwv.gov/event/city-council-meeting-2/2026-04-21/
LOCATION:Ranson City Hall\, 312 S Mildred St\, Ranson\, WV\, 25438\, United States
END:VEVENT
BEGIN:VEVENT
DTSTART;VALUE=DATE:20260420
DTEND;VALUE=DATE:20260425
DTSTAMP:20260425T064547
CREATED:20260330T135811Z
LAST-MODIFIED:20260330T135811Z
UID:10000412-1776643200-1777075199@ransonwv.gov
SUMMARY:Spring Clean Up Week
DESCRIPTION:Spring Clean Up Week will take place April 20–24\, 2026. Take advantage of this opportunity to clear out unwanted items and help keep our community clean and beautiful!Please see the flyer below for more details:
URL:https://ransonwv.gov/event/spring-clean-up-week/
LOCATION:WV
END:VEVENT
BEGIN:VEVENT
DTSTART;TZID=America/New_York:20260417T130000
DTEND;TZID=America/New_York:20260417T170000
DTSTAMP:20260425T064547
CREATED:20260320T191213Z
LAST-MODIFIED:20260326T145258Z
UID:10000398-1776430800-1776445200@ransonwv.gov
SUMMARY:Eastern Panhandle Career Fair
DESCRIPTION:The City of Ranson\, in partnership with the Jefferson County Chamber of Commerce and WorkForce West Virginia Region VII\, invites local businesses to participate in the Eastern Panhandle Career Fair. Join us on Friday\, April 17\, 2026\, from 1:00 to 5:00 PM to connect with job seekers from across the region.\n\n Employers Register here\n\nQuestions? Please contact DMcClure@ransonwv.us!
URL:https://ransonwv.gov/event/eastern-panhandle-career-fair-2/
LOCATION:Ranson Civic Center\, 432 W 2nd Ave\, Ranson\, 25438\, United States
ORGANIZER;CN="City of Ranson":MAILTO:dmcclure@ransonwv.us
END:VEVENT
BEGIN:VEVENT
DTSTART;TZID=America/New_York:20260416T180000
DTEND;TZID=America/New_York:20260416T190000
DTSTAMP:20260425T064547
CREATED:20260330T140721Z
LAST-MODIFIED:20260330T140721Z
UID:10000433-1776362400-1776366000@ransonwv.gov
SUMMARY:Parks & Recreation Board Meeting
DESCRIPTION:
URL:https://ransonwv.gov/event/parks-recreation-board-meeting/2026-04-16/
LOCATION:Ranson City Hall\, 312 S Mildred St\, Ranson\, WV\, 25438\, United States
END:VEVENT
BEGIN:VEVENT
DTSTART;TZID=America/New_York:20260407T190000
DTEND;TZID=America/New_York:20260407T200000
DTSTAMP:20260425T064547
CREATED:20260330T140023Z
LAST-MODIFIED:20260330T140444Z
UID:10000413-1775588400-1775592000@ransonwv.gov
SUMMARY:City Council Meeting
DESCRIPTION:
URL:https://ransonwv.gov/event/city-council-meeting/2026-04-07/
LOCATION:Ranson City Hall\, 312 S Mildred St\, Ranson\, WV\, 25438\, United States
END:VEVENT
BEGIN:VEVENT
DTSTART;TZID=America/New_York:20260406T190000
DTEND;TZID=America/New_York:20260406T200000
DTSTAMP:20260425T064547
CREATED:20260330T135423Z
LAST-MODIFIED:20260330T140510Z
UID:10000401-1775502000-1775505600@ransonwv.gov
SUMMARY:Planning Commission Meeting
DESCRIPTION:
URL:https://ransonwv.gov/event/planning-commission-meeting/2026-04-06/
LOCATION:WV
END:VEVENT
END:VCALENDAR