BEGIN:VCALENDAR
VERSION:2.0
PRODID:-//City of Ranson, WV - ECPv6.15.20//NONSGML v1.0//EN
CALSCALE:GREGORIAN
METHOD:PUBLISH
X-ORIGINAL-URL:https://ransonwv.gov
X-WR-CALDESC:Events for City of Ranson, WV
REFRESH-INTERVAL;VALUE=DURATION:PT1H
X-Robots-Tag:noindex
X-PUBLISHED-TTL:PT1H
BEGIN:VTIMEZONE
TZID:America/New_York
BEGIN:DAYLIGHT
TZOFFSETFROM:-0500
TZOFFSETTO:-0400
TZNAME:EDT
DTSTART:20250309T070000
END:DAYLIGHT
BEGIN:STANDARD
TZOFFSETFROM:-0400
TZOFFSETTO:-0500
TZNAME:EST
DTSTART:20251102T060000
END:STANDARD
BEGIN:DAYLIGHT
TZOFFSETFROM:-0500
TZOFFSETTO:-0400
TZNAME:EDT
DTSTART:20260308T070000
END:DAYLIGHT
BEGIN:STANDARD
TZOFFSETFROM:-0400
TZOFFSETTO:-0500
TZNAME:EST
DTSTART:20261101T060000
END:STANDARD
BEGIN:DAYLIGHT
TZOFFSETFROM:-0500
TZOFFSETTO:-0400
TZNAME:EDT
DTSTART:20270314T070000
END:DAYLIGHT
BEGIN:STANDARD
TZOFFSETFROM:-0400
TZOFFSETTO:-0500
TZNAME:EST
DTSTART:20271107T060000
END:STANDARD
END:VTIMEZONE
BEGIN:VEVENT
DTSTART;TZID=America/New_York:20260601T190000
DTEND;TZID=America/New_York:20260601T200000
DTSTAMP:20260424T102647
CREATED:20260330T135423Z
LAST-MODIFIED:20260330T140510Z
UID:10000403-1780340400-1780344000@ransonwv.gov
SUMMARY:Planning Commission Meeting
DESCRIPTION:
URL:https://ransonwv.gov/event/planning-commission-meeting/2026-06-01/
LOCATION:WV
END:VEVENT
BEGIN:VEVENT
DTSTART;TZID=America/New_York:20260606T100000
DTEND;TZID=America/New_York:20260606T150000
DTSTAMP:20260424T102647
CREATED:20260407T132244Z
LAST-MODIFIED:20260408T172022Z
UID:10000443-1780740000-1780758000@ransonwv.gov
SUMMARY:2026 Ranson Festival & Car Show
DESCRIPTION:The City of Ranson invites you to the annual Ranson Festival & Car Show on Saturday\, June 6\, 2026\, from 10:00 AM to 3:00 PM—truly a day of fun for everyone!\nBring the whole family out to enjoy craft vendors\, food trucks\, live entertainment\, a kids zone\, petting zoo & pony rides\, and a kids car show. Whether you’re coming for the activities\, the food\, or the community atmosphere\, there’s something for everyone to enjoy.\n\nThe Car Show will feature a variety of entries and awards\, including Top 30\, Best Car\, Best Truck\, Best Motorcycle\, and other special awards. Car registration will take place from 8:30 AM to 10:00 AM\, with trophy presentations at 2:30 PM.\n\nWe look forward to seeing you there for a fun-filled day in Ranson!\n\nEvent Flyer\nCar Show Participants Register Here\nVendors Register Here: https://docs.google.com/forms/d/e/1FAIpQLScBezGyFso_P3f6sFKdNiz2AK5YiKIH-saMOCIzs10nxa-0eA/viewform?usp=header
URL:https://ransonwv.gov/event/2026-ranson-festival-car-show/
LOCATION:Ranson City Hall\, 312 S Mildred St\, Ranson\, WV\, 25438\, United States
ORGANIZER;CN="City of Ranson":MAILTO:dmcclure@ransonwv.us
END:VEVENT
BEGIN:VEVENT
DTSTART;TZID=America/New_York:20260616T190000
DTEND;TZID=America/New_York:20260616T200000
DTSTAMP:20260424T102647
CREATED:20260330T140302Z
LAST-MODIFIED:20260413T174522Z
UID:10000424-1781636400-1781640000@ransonwv.gov
SUMMARY:City Council Meeting
DESCRIPTION:
URL:https://ransonwv.gov/event/city-council-meeting-2/2026-06-16/
LOCATION:Ranson City Hall\, 312 S Mildred St\, Ranson\, WV\, 25438\, United States
END:VEVENT
BEGIN:VEVENT
DTSTART;TZID=America/New_York:20260618T180000
DTEND;TZID=America/New_York:20260618T190000
DTSTAMP:20260424T102647
CREATED:20260330T140721Z
LAST-MODIFIED:20260330T140721Z
UID:10000435-1781805600-1781809200@ransonwv.gov
SUMMARY:Parks & Recreation Board Meeting
DESCRIPTION:
URL:https://ransonwv.gov/event/parks-recreation-board-meeting/2026-06-18/
LOCATION:Ranson City Hall\, 312 S Mildred St\, Ranson\, WV\, 25438\, United States
END:VEVENT
END:VCALENDAR